BEGIN:VCALENDAR
VERSION:2.0
PRODID:-//IK HOU VAN HELMOND - ECPv6.15.20//NONSGML v1.0//EN
CALSCALE:GREGORIAN
METHOD:PUBLISH
X-ORIGINAL-URL:https://ikhouvanhelmond.nl
X-WR-CALDESC:Evenementen voor IK HOU VAN HELMOND
REFRESH-INTERVAL;VALUE=DURATION:PT1H
X-Robots-Tag:noindex
X-PUBLISHED-TTL:PT1H
BEGIN:VTIMEZONE
TZID:UTC
BEGIN:STANDARD
TZOFFSETFROM:+0000
TZOFFSETTO:+0000
TZNAME:UTC
DTSTART:20240101T000000
END:STANDARD
END:VTIMEZONE
BEGIN:VEVENT
DTSTART;VALUE=DATE:20250220
DTEND;VALUE=DATE:20250706
DTSTAMP:20260419T131958
CREATED:20250204T154557Z
LAST-MODIFIED:20250224T111505Z
UID:362-1740009600-1751759999@ikhouvanhelmond.nl
SUMMARY:Draden van ons slavernijverleden
DESCRIPTION:Samen met inwoners van Helmond en Brabant werken we aan een uniek monumentaal wandkleed naar ontwerp van de Eindhovense kunstenaar Victor Sonna. In het ontwerp/kleed zijn de verhalen over het koloniale verleden van onze provincie verwerkt. Ook jij kan meehelpen het kleed te ‘vullen’ met al deze verhalen. Dat kan door middel van verschillende textieltechnieken als tuften\, borduren\, punchen en patchwork. Ons kasteel is een van de maaklocaties in Brabant\, naast bijvoorbeeld TextielMuseum\, Noordbrabants Museum en Nieuwe Veste Breda. \nHet bijzondere wandkleed wordt gemaakt in het kader van het landelijke project ‘Draden van ons Nederlandse slavernijverleden’. Door samen aan het kleed te werken kunnen we met elkaar praten over het verleden\, en we verbinden op deze manier erfgoed met kunst. Het kleed dat op onze maaklocatie wordt gemaakt\, is onderdeel van een veel groter kleed (in totaal 35 x 2\,5 meter) dat uiteindelijk te zien zal zijn op een nu nog niet bekende locatie. \nHelp jij ook mee?\nOok jij kan meewerken aan dit kleed op de maaklocatie Kasteel Helmond iedere donderdag en zaterdag van 13.00-16.00 uur in de periode 20 februari tot en met 5 juli. Jouw deelname kan vanaf de leeftijd van 9 jaar en is gratis\, ook heb je geen museumkaartje nodig om mee te kunnen doen. En je hoeft ook geen ervaring te hebben met het maken van kleden\, iedereen is welkom! Het maken van het kleed gebeurt onder begeleiding van onze medewerkers. \nGeef je op via https://tickets.museumhelmond.nl/nl/draden-van-ons-slavernijverleden/tickets.
URL:https://ikhouvanhelmond.nl/event/draden-van-ons-slavernijverleden/
LOCATION:Museum Helmond locatie kasteel\, Kasteelplein 1\, Helmond\, 5701PP
CATEGORIES:Actief,Kunst & cultuur
ATTACH;FMTTYPE=image/jpeg:https://ikhouvanhelmond.nl/wp-content/uploads/2025/02/IMG_5802-scaled.jpeg
END:VEVENT
BEGIN:VEVENT
DTSTART;VALUE=DATE:20250504
DTEND;VALUE=DATE:20250505
DTSTAMP:20260419T131958
CREATED:20250407T081633Z
LAST-MODIFIED:20250407T081633Z
UID:1380-1746316800-1746403199@ikhouvanhelmond.nl
SUMMARY:Rondje Helmond
DESCRIPTION:Op 4 mei staat de 21e editie van het gratis fietsevenement Rondje Helmond weer op de agenda. Het belooft een gezellige dag te worden waar sportieve fietsers hun tweewieler van stal halen om een tocht van 50 kilometer te maken door Helmond.\n\nTussen 10.00 en 12.00 uur kunnen deelnemers bij elke deelnemende ondernemer een gratis stempelkaart ophalen. Door stempels te verzamelen bij alle officiële stempelposten maken deelnemers kans op vele prijzen\, waaronder een gloednieuwe fiets van Henk van Rooij Fietsen. Volle stempelkaarten kunnen op de dag zelf vóór 17.00 uur worden ingeleverd bij een van de stempelposten. \nStempelposten op de fietsroute: \n\nIJssalon Il Circo\nPalingkwekerij de Rijpelaal\nBrandevoortse Hoeve\nEetcafé De Barrier\nParkrestaurant De Warande\nKinderboederij de Velhoeve\nHelmondse Golfclub Overbrug\nDe Cacaofabriek\nMysterypost\n\nNet als voorgaande jaren kunnen deelnemers onderweg een Mysterypost tegenkomen. De locatie van deze post blijft echter tot de dag zelf een goed bewaard geheim!
URL:https://ikhouvanhelmond.nl/event/rondje-helmond/
CATEGORIES:Actief
ATTACH;FMTTYPE=image/jpeg:https://ikhouvanhelmond.nl/wp-content/uploads/2025/04/Rondje-Helmond-2025-scaled.jpg
END:VEVENT
BEGIN:VEVENT
DTSTART;TZID=UTC:20250504T140000
DTEND;TZID=UTC:20250504T160000
DTSTAMP:20260419T131958
CREATED:20250225T091707Z
LAST-MODIFIED:20250425T083233Z
UID:957-1746367200-1746374400@ikhouvanhelmond.nl
SUMMARY:IVN wandeling - de Bundertjes
DESCRIPTION:De Bundertjes is begin jaren ’80 van vorige eeuw heringericht. Vanuit een oorspronkelijk open beekdallandschap is meer afwisseling ontstaan door de aanleg van een aantal landschappelijke elementen en bosjes. Door deze inrichting heeft het gebied het huidige beeld gekregen. \nBijzondere natuurterreintjes zijn de ijsbaan van ‘boer Kuijpers’ en de natuurtuin De Robbert. Op beide terreinen hebben zich soortenrijke plantengemeenschappen kunnen handhaven met veel tegenwoordig zeldzame soorten door het specifieke beheer.\nDe wandeling leidt ook door de natuurtuin. \nOok in cultuurhistorisch opzicht is de Bundertjes een heel interessant gebied. Zo vindt men er een schaatsbaan\, een voormalige vloeiweide voor bemesting\, waarop nog oude waterrechten rusten. Het kapelletje van Binderen is een voormalige schaapskooi\, die vroeger tot het kasteel van Croy behoorde. Verder is er nog altijd de grachtengordel\, die vroeger het klooster van Binderen omgaf. Dit klooster werd gesticht door keizerin Maria van Brabant\, die leefde van 1189 tot 1260. \nSinds de waterbodemsanering van de Gulden Aa halverwege de jaren 90\, die ernstig verontreinigd was door industriële lozingen door de Vlisco in het verleden\, zijn de ijsvogel en weidebeekjuffer weer vaste bewoners van het gebied. In 2012-2013 heeft de natuurwaarde van het gebied een impuls gekregen door extra aanplant van struweel en het graven van enkele poelen.\nAan de westzijde van de Gulden Aa is uit verwaarloosde grienden een weelderige natuur ontstaan die reeën beschutting biedt en een rijke vogelstand heeft. Sinds kort woont er ook een bever in het gebied.\ \nDe oostzijde van de meanderende beek wordt gekenmerkt door een kleinschalige lappendeken van weilanden en bosjes die begrensd en doorsneden worden door paden en boomsingels. In dit gebied is ook de natuurtuin ‘De Robbert’ gelegen. \nTijdens de wandeling komen de diverse landschappelijke elementen van het gebied aan de orde.\nDeelname is gratis. Opgave vooraf niet nodig. Duur van de wandeling circa 2 uur. Voor rolstoelhouders is er een aangepaste route.
URL:https://ikhouvanhelmond.nl/event/ivn-wandeling-de-bundertjes/
LOCATION:Natuurtuin de Robbert\, Kemenadelaan 10\, Helmond
CATEGORIES:Actief
ATTACH;FMTTYPE=image/jpeg:https://ikhouvanhelmond.nl/wp-content/uploads/2025/02/Bundertjes-Helmond-scaled.jpg
END:VEVENT
BEGIN:VEVENT
DTSTART;TZID=UTC:20250507T130000
DTEND;TZID=UTC:20250507T153000
DTSTAMP:20260419T131958
CREATED:20250225T092150Z
LAST-MODIFIED:20250225T092150Z
UID:961-1746622800-1746631800@ikhouvanhelmond.nl
SUMMARY:IVN wandeling- bomenwandeling door drie bossen
DESCRIPTION:Op 7 mei a.s. wordt een bijzondere “3Bossenwandeling” gehouden waarbij iedereen welkom is. \nDe Bomenwerkgroep van het IVN-Helmond organiseert op deze woensdagmiddag 7 mei van 13 uur tot 15.30 uur een nieuw uitgestippelde publiekswandeling door het Broedersbos\, het Bakelse Bos en het – voor veel mensen minder bekende – Zusterbos in Rijpelberg. \nDeze drie bossen zijn een belangrijk stuk natuur voor alles wat erin leeft en voor onze gezondheid. De Bomenwerkgroep neemt U graag mee om te vertellen over de bomen en hun directe omgeving. Deelname is gratis. Aanmelden is niet nodig. \nVerzamelen op het Sallandhof (voor de ingang van het Broedersbos); er is parkeergelegenheid aan het Sallandhof. \nHet Broedersbos\, aangelegd in 1920 door de Broeders van Maastricht\, bevat nog relicten van de rijke geschiedenis van dit stukje Helmond. \nVandaar gaat de tocht door het Bakelse Bos\, ooit aangelegd voor de productie van naaldhout en nu een belangrijk drinkwaterwingebied. \nVervolgens komen we aan in het Zusterbos\, gekocht door de Zusters van Liefde in 1948 en waarvan nog een paar mooie Mariagrotten te zien zijn om een beeld te krijgen hoe het vroeger was. \nDe “3Bossenwandeling” is door de Bomenwerkgroep in de afgelopen maanden helemaal verkend en in kaart gebracht. Spoedig zal de wandeling ook digitaal beschikbaar zijn via een app van het IVN. Iedereen kan dan individueel ook op pad gaan met de app op de telefoon. Op 7 mei is de première van de publiekswandeling\, waar de gidsen van de Bomenwerkgroep kunnen vertellen over natuur\, cultuur en geschiedenis. Eenieder is van harte welkom!
URL:https://ikhouvanhelmond.nl/event/ivn-wandeling-bomenwandeling-door-drie-bossen/
LOCATION:Broedersbos\, Sallandhof\, Helmond
CATEGORIES:Actief
ATTACH;FMTTYPE=image/jpeg:https://ikhouvanhelmond.nl/wp-content/uploads/2025/02/bos-bomen-scaled.jpg
END:VEVENT
BEGIN:VEVENT
DTSTART;TZID=UTC:20250518T140000
DTEND;TZID=UTC:20250518T160000
DTSTAMP:20260419T131958
CREATED:20250225T092622Z
LAST-MODIFIED:20250225T092622Z
UID:965-1747576800-1747584000@ikhouvanhelmond.nl
SUMMARY:IVN wandeling - Ecozone Brandevoort
DESCRIPTION:De ecozone loopt als een groen ring om de Veste in Brandevoort. Het is een zone met ruimte voor natuur\, landschap en recreatie. De vegetatie biedt een leefgebied voor vogels en andere dieren. De ijsvogel is een vaste bezoeker van de zone. \nNog niet zo lang geleden werd jaarlijks het kampioenschap fierljeppen in de zone georganiseerd. \nWe wandelen ook door een eikenbosje dat bij de bouw van de wijk bewaard is gebleven en nu een groene long en speelbosje is in het stadse hart. \nDe ecozone heeft 3 belangrijke functies. \n\nIn de eerste plaats dient de ecozone als systeem van waterberging. Het hemelwater van de omringende bebouwing en straten wordt via een gescheiden rioolsysteem afgevoerd naar de ecozone. Van oudsher stroomde hier de Schootense Loop die voor de afwatering van het omliggende gebied zorgde. De beek stroomt nu door de ecozone.\nIn de tweede plaats is de ecozone onderdeel van een ecologische verbindingszone die allerlei dieren een doorgang biedt door de bebouwde omgeving.\nEn ten derde heeft de zone een belangrijke recreatieve functie. Men kan er wandelen\, picknicken\, spelen\, zwemmen\, vissen\, e.d..\n\nDeelname is gratis. Opgave vooraf niet nodig. Duur van de wandeling circa 2 uur. De wandeling is niet geschikt voor rolstoelhouders.\nAutomobilisten kunnen parkeren aan de Broederwal of Diepenbroeksingel.
URL:https://ikhouvanhelmond.nl/event/ivn-wandeling-ecozone-brandevoort/
LOCATION:Station Brandevoort\, Broederwal 133\, Helmond
CATEGORIES:Actief
ATTACH;FMTTYPE=image/jpeg:https://ikhouvanhelmond.nl/wp-content/uploads/2025/02/Brandevoort-scaled.jpg
END:VEVENT
BEGIN:VEVENT
DTSTART;VALUE=DATE:20250521
DTEND;VALUE=DATE:20250526
DTSTAMP:20260419T131958
CREATED:20250501T132150Z
LAST-MODIFIED:20250501T132150Z
UID:1700-1747785600-1748217599@ikhouvanhelmond.nl
SUMMARY:Wandelavondvierdaagse
DESCRIPTION:De 64 e editie van de Wandelavondvierdaagse van Helmond wordt woensdag 21 mei afgetrapt. Deelnemers kunnen op woensdag 21 mei\, donderdag 22 mei\, vrijdag 23 mei en zaterdag 24 mei meedoen aan dit wandelevenement. Er kan gekozen worden om een afstand van 5\, 10 of 15 kilometer af te leggen. Op zaterdag vindt de afsluitende bloemenintocht plaats. \nMocht je interesse hebben om 15 kilometer af te leggen\, dan kun je je daarvoor alleen opgeven bij startbureau Rijpelberg/Brouwhuis. De start van de wandelingen vindt alle vier de dagen plaats op een van de vier over de stad verdeelde startbureaus. Zo’n bureau staat bij de Speeltuin Leonardus in de Leonarduswijk. Je vindt ook een inschrijfpunt bij ‘De Geseldonk’ in Mierlo-Hout. Bij wijkcentrum ‘De Brem’ in Rijpelberg kun je je ook inschrijven. Het vierde bureau bevindt zich bij ‘De Oude Toren’ van Scouting Jan Baloys in Stiphout. \nOp zaterdagmiddag 24 mei komen de lopers samen bij de feestelijke bloemenintocht. De route van deze intocht start om 14.30 uur vanaf het grasveld Hoek Pr. Rooseveltlaan-Jan van Brabantlaan. Vervolgens komen de lopers langs de President Rooseveltlaan\, het ziekenhuis om via de Steenweg rechtsaf de Kromme Steenweg op te lopen. Hierna linksaf naar Boscotondo waar het einde van de intocht is.
URL:https://ikhouvanhelmond.nl/event/wandelavondvierdaagse/
CATEGORIES:Actief
END:VEVENT
BEGIN:VEVENT
DTSTART;VALUE=DATE:20250529
DTEND;VALUE=DATE:20250530
DTSTAMP:20260419T131958
CREATED:20250528T074654Z
LAST-MODIFIED:20250528T074654Z
UID:1769-1748476800-1748563199@ikhouvanhelmond.nl
SUMMARY:Yoga bij de Koffieboetiek
DESCRIPTION:Begin de dag met een fijne yogales in de serene binnentuin van Koffieboetiek\, omringd door zachte geuren\, intentiekaartjes\, klanken en rust. Een ochtend vol zachtheid\, zomerse lichtheid en Bali-vibes! Na de yoga staat er een tropische lunch voor je klaar. \nWat kun je verwachten? \n• Een zachte yoga les van 60 minuten\n• Serene sfeer in de binnentuin\n• Aandacht voor ontspanning\, ademhaling en verbinding\n• Een gezonde\, tropische lunch na afloop\n• Intieme sfeer – max. 11 deelnemers per les\n• Vol zomer en Bali-vibes \nLUNCH PLANKJE\nGlaasje tropical chia pudding met mango\, passievrucht en kokosyoghurt\, afgetopt met granola Topped bananabread met kokosyoghurt\, banaan en een detox sapje. \nReserveer een plekje via https://www.momoyoga.com/deyogatemple/events.
URL:https://ikhouvanhelmond.nl/event/yoga-bij-de-koffieboetiek/
LOCATION:Koffieboetiek\, Kromme Steenweg 33
CATEGORIES:Actief
ATTACH;FMTTYPE=image/jpeg:https://ikhouvanhelmond.nl/wp-content/uploads/2025/05/event-image-6825de5715bf89.59764886.jpg
END:VEVENT
END:VCALENDAR