BEGIN:VCALENDAR
VERSION:2.0
PRODID:-//IK HOU VAN HELMOND - ECPv6.15.20//NONSGML v1.0//EN
CALSCALE:GREGORIAN
METHOD:PUBLISH
X-WR-CALNAME:IK HOU VAN HELMOND
X-ORIGINAL-URL:https://ikhouvanhelmond.nl
X-WR-CALDESC:Evenementen voor IK HOU VAN HELMOND
REFRESH-INTERVAL;VALUE=DURATION:PT1H
X-Robots-Tag:noindex
X-PUBLISHED-TTL:PT1H
BEGIN:VTIMEZONE
TZID:UTC
BEGIN:STANDARD
TZOFFSETFROM:+0000
TZOFFSETTO:+0000
TZNAME:UTC
DTSTART:20240101T000000
END:STANDARD
END:VTIMEZONE
BEGIN:VEVENT
DTSTART;VALUE=DATE:20250220
DTEND;VALUE=DATE:20250706
DTSTAMP:20260423T104229
CREATED:20250204T154557Z
LAST-MODIFIED:20250224T111505Z
UID:362-1740009600-1751759999@ikhouvanhelmond.nl
SUMMARY:Draden van ons slavernijverleden
DESCRIPTION:Samen met inwoners van Helmond en Brabant werken we aan een uniek monumentaal wandkleed naar ontwerp van de Eindhovense kunstenaar Victor Sonna. In het ontwerp/kleed zijn de verhalen over het koloniale verleden van onze provincie verwerkt. Ook jij kan meehelpen het kleed te ‘vullen’ met al deze verhalen. Dat kan door middel van verschillende textieltechnieken als tuften\, borduren\, punchen en patchwork. Ons kasteel is een van de maaklocaties in Brabant\, naast bijvoorbeeld TextielMuseum\, Noordbrabants Museum en Nieuwe Veste Breda. \nHet bijzondere wandkleed wordt gemaakt in het kader van het landelijke project ‘Draden van ons Nederlandse slavernijverleden’. Door samen aan het kleed te werken kunnen we met elkaar praten over het verleden\, en we verbinden op deze manier erfgoed met kunst. Het kleed dat op onze maaklocatie wordt gemaakt\, is onderdeel van een veel groter kleed (in totaal 35 x 2\,5 meter) dat uiteindelijk te zien zal zijn op een nu nog niet bekende locatie. \nHelp jij ook mee?\nOok jij kan meewerken aan dit kleed op de maaklocatie Kasteel Helmond iedere donderdag en zaterdag van 13.00-16.00 uur in de periode 20 februari tot en met 5 juli. Jouw deelname kan vanaf de leeftijd van 9 jaar en is gratis\, ook heb je geen museumkaartje nodig om mee te kunnen doen. En je hoeft ook geen ervaring te hebben met het maken van kleden\, iedereen is welkom! Het maken van het kleed gebeurt onder begeleiding van onze medewerkers. \nGeef je op via https://tickets.museumhelmond.nl/nl/draden-van-ons-slavernijverleden/tickets.
URL:https://ikhouvanhelmond.nl/event/draden-van-ons-slavernijverleden/
LOCATION:Museum Helmond locatie kasteel\, Kasteelplein 1\, Helmond\, 5701PP
CATEGORIES:Actief,Kunst & cultuur
ATTACH;FMTTYPE=image/jpeg:https://ikhouvanhelmond.nl/wp-content/uploads/2025/02/IMG_5802-scaled.jpeg
END:VEVENT
BEGIN:VEVENT
DTSTART;VALUE=DATE:20250321
DTEND;VALUE=DATE:20250619
DTSTAMP:20260423T104229
CREATED:20250206T124521Z
LAST-MODIFIED:20250206T124521Z
UID:462-1742515200-1750291199@ikhouvanhelmond.nl
SUMMARY:Expo 42: Marie van Rijswijk
DESCRIPTION:Elk seizoen presenteert Lokaal 42 Expo 42. Een plek waar ze beginnende en toonaangevende kunstenaars uitnodigen om hun werk te kunnen exposeren. Binnen deze laagdrempelige setting creëren ze de ruimte de kunstenaar en de kijker dichter bij elkaar te brengen. \nMarie van Rijswijk is beeldend maker uit Tilburg. Ze studeert momenteel aan de Gerrit Rietveld Academie in Amsterdam\, waar ze in haar eerste jaar zit. Marie houdt zich vooral bezig met het materiaalexperiment\, waarbij ze organisch en industrieel combineert. Ze laat zich leiden door haar interesse in tekst\, textuur en textiel. Haar werk is een samenspel van meerdere beeldende vormen\, van fotografie tot sculpturale objecten.
URL:https://ikhouvanhelmond.nl/event/expo-42-marie-van-rijswijk/
LOCATION:Lokaal 42\, Markt 42\, Helmond
CATEGORIES:Expositie
END:VEVENT
BEGIN:VEVENT
DTSTART;VALUE=DATE:20250406
DTEND;VALUE=DATE:20250602
DTSTAMP:20260423T104229
CREATED:20250310T120847Z
LAST-MODIFIED:20250411T102319Z
UID:1084-1743897600-1748822399@ikhouvanhelmond.nl
SUMMARY:Expo: Grondstof
DESCRIPTION:Zes kunstenaars en één kunstenaarsduo presenteren in de tentoonstelling Grondstof hun werk\, waarbij de fascinatie voor het materiaal centraal staat. De uitingsvormen zijn net zo divers als de kunstenaars: kunstenaarsduo Kaneli & Smit\, Nan Groot Antink\, Lucie Havel\, Jerrold Saija\, Joppe Venema\, Margreet Hajee en Karin Hoogesteger. De gemeenschappelijke deler voor al deze kunstenaars is dat de grondstof naast het gebruikte materiaal\, óók het thema is van het werk dat ze maken. Uiteindelijk vallen werk en grondstoffen bijna samen. \nGrondstof wordt zondag 6 april om 15.00 uur officieel geopend in De Cacaofabriek Expo en is t/m 1 juni 2025 dagelijks te bezoeken (vrije toegang).
URL:https://ikhouvanhelmond.nl/event/grondstof/
LOCATION:De Cacaofabriek\, Cacaokade 1\, Helmond
CATEGORIES:Expositie
ATTACH;FMTTYPE=image/png:https://ikhouvanhelmond.nl/wp-content/uploads/2025/03/Grondstof.png
END:VEVENT
BEGIN:VEVENT
DTSTART;VALUE=DATE:20250517
DTEND;VALUE=DATE:20250630
DTSTAMP:20260423T104229
CREATED:20250517T154434Z
LAST-MODIFIED:20250528T065003Z
UID:1725-1747440000-1751241599@ikhouvanhelmond.nl
SUMMARY:Fotofestival Goeikes
DESCRIPTION:In het centrum van Helmond kun je genieten van meer dan 110 inspirerende foto’s gemaakt door amateurfotografen\, met als thema Hoogvliegers. Veelzijdig\, laagdrempelig en helemaal gratis. De foto’s zijn onder andere te vinden op het plein voor het kasteel\, in de kasteeltuin en op het Piet Blomplein. \nEen kleine impressie: \n\n\n  \n\n\n\n\n\n\n\n\n\n\nDit bericht op Instagram bekijken\n\n\n\n\n\n\n\n\n\n\n\n\n\n\n\n\n\n\n\n\n\n\n  \nEen bericht gedeeld door Ik hou van Helmond (@ikhouvanhelmond)
URL:https://ikhouvanhelmond.nl/event/fotofestival-goeikes/
LOCATION:Helmond centrum
CATEGORIES:Expositie
ATTACH;FMTTYPE=image/jpeg:https://ikhouvanhelmond.nl/wp-content/uploads/2025/05/goeikes-fotofestival-helmond-scaled.jpg
END:VEVENT
BEGIN:VEVENT
DTSTART;TZID=UTC:20250517T200000
DTEND;TZID=UTC:20250517T210000
DTSTAMP:20260423T104229
CREATED:20250325T122452Z
LAST-MODIFIED:20250325T122452Z
UID:1268-1747512000-1747515600@ikhouvanhelmond.nl
SUMMARY:Fabrique Classique - Postcolonial Fandango
DESCRIPTION:Lambertus Concerten en De Cacaofabriek werken samen met als resultaat een aantal bijzondere klassieke concerten. Postkoloniale Fandango is een onderzoeksproject van de Colombiaanse violist Camilo Arias Cuellar\, reflecterend op zijn ervaring met migratie. \n\n\nHet project bestaat uit de creatie van een ensemble met een eigen origineel repertoire en concept. Door gebruik te maken van elementen uit de historische uitvoeringspraktijk. Met een innovatief concert format dat poëtische verhalen en improvisatie samenbrengt\, onderzoekt het ensemble de identiteit via de Fandango dans. De drie decennia na de ontdekking van Amerika in 1492 waren jaren van instabiliteit. In een zeer korte periode werd het gedachtengoed van de inheemse samenleving afgeschaft\, maar de veroveraars hadden moeite om de nieuwe zonder op te leggen. Deze situatie leidde tot een clash van beide\, een “Bermudadriehoek”\, waarin de schaduwen van oude heidense goden opnieuw verschenen\, reïncarneerden in christelijke demonen.Ook muzikaal leidde dit tot allerlei mengvormen van inheemse en barokmuziek.
URL:https://ikhouvanhelmond.nl/event/fabrique-classique-postcolonial-fandango/
LOCATION:De Cacaofabriek\, Cacaokade 1\, Helmond
CATEGORIES:Muziek
ATTACH;FMTTYPE=image/png:https://ikhouvanhelmond.nl/wp-content/uploads/2025/03/Fabrique-classique.png
END:VEVENT
BEGIN:VEVENT
DTSTART;TZID=UTC:20250517T201500
DTEND;TZID=UTC:20250517T213500
DTSTAMP:20260423T104229
CREATED:20250411T142041Z
LAST-MODIFIED:20250411T142041Z
UID:1458-1747512900-1747517700@ikhouvanhelmond.nl
SUMMARY:'t Hooge Nest - Solo Stories
DESCRIPTION:Als schrijfster Roxane van Iperen samen met haar gezin een oude villa in de bossen van Naarden betrekt\, weet ze niets van de geheime geschiedenis van dit huis. Pas tijdens de verbouwing ontdekt ze intrigerende sporen uit het verleden. \n\n\n\n\n\nOnder de houten vloeren en achter wandpanelen vindt Van Iperen schuilplaatsen en verzetskrantjes. Van Iperen begint aan een jarenlange zoektocht om een reconstructie te kunnen maken van die periode. Zo ontdekt ze dat op het dieptepunt van de oorlog ’t Hooge Nest\, dankzij twee Joodse zussen\, een van de grootste onderduikadressen van Nederland is. Een veilige haven voor vele onderduikers\, een doorvoerroute voor het verzet en een plek waar de cultuur rijkelijk bloeit. \n\n\nDe monoloog ’t Hooge Nest wekt\, 80 jaar na het einde van de Tweede Wereldoorlog\, het verleden tot leven vanuit het heden. Met een zoektocht door het huis en daarmee door de geschiedenis van dit bijzondere gebouw en haar bewoners. \n\n\nGebaseerd op de gelijknamige bestseller die Roxane van Iperen schreef over dit waargebeurde verhaal. \n\n\nGespeeld door Fockeline Ouwerkerk (o.a. Bankier van het Verzet\, Taal is zeg maar echt mijn ding en Moordvrouw). \n  \n45 Minuten voor aanvang wordt er een inleiding gegeven door Annette Embrechts\, dans- en theaterjournaliste voor de Volkskrant. Hiervoor kun je kosteloos een plekje reserveren tijdens het bestelproces.
URL:https://ikhouvanhelmond.nl/event/t-hooge-nest-solo-stories/
LOCATION:Theater het Speelhuis\, Speelhuisplein 2\, Helmond
CATEGORIES:Toneel
ATTACH;FMTTYPE=image/jpeg:https://ikhouvanhelmond.nl/wp-content/uploads/2025/04/solo.jpg
END:VEVENT
BEGIN:VEVENT
DTSTART;TZID=UTC:20250517T210000
DTEND;TZID=UTC:20250517T210000
DTSTAMP:20260423T104229
CREATED:20250411T182658Z
LAST-MODIFIED:20250411T184851Z
UID:1505-1747515600-1747515600@ikhouvanhelmond.nl
SUMMARY:LIVE: Ivyvox + Mountain High
DESCRIPTION:Vanavond twee bands op het podium namelijk Ivyvox met support van Mountain High. \nIvyvox staat op een doorbreekpunt en weet zich al flink in picture te spelen. Maar doorbraak of niet: ze maken gewoon vette en opvallende nummers! Mountain High bevindt zich nog niet in dat stadium\, maar ze maken hele interessante songs. Daar biedt Muziekcafe graag een podium voor. \nMet een flinke dosis feelgood & catchy high-energy vibes brengt IVYVOX je terug naar de tijd waarin pop-punk en rock tunes hoog in de hitlijsten stonden! Het geluid en charismatische enthousiasme van deze Haagse babes & dude is kenmerkend\, wat ze intussen al veel lof heeft opgeleverd bij platforms als KINK\, 3FM\, IndieXL\, Den Haag FM en Pinguin Radio. IVYVOX scoorde 2x een nummer 1-hit in de Indie Chart (IndieXL) met singles “TONIGHT” & “Best Day Of My Life”\, werd publieksfavoriet bij de Pinguin Radio showcases tijdens ESNS en heeft met Popronde 2022 door heel Nederland getourd. \nHun single ‘sweet sixteen’ is in 2023 gebruikt in Nederlandse bioscoopfilm ‘Leeuwin’\, welke in meerdere landen op het doek verscheen. In 2024 schittert IVYVOX opnieuw op het doek met hun pop-punk cover ”Best Day Of My Life” (American Authors) in Nederlandse bioscoopfilm “Verliefd op Bali”. Ook behaalt de band de halve finale van De Mentos Grote Prijs Van Nederland in TivoliVredenburg. Met een mooie lijst aan prestaties\, en een bruisende verzameling aan hyper energieke pop-punk bangers die dagenlang in je hoofd blijven zitten\, heeft IVYVOX een veelbelovende toekomst voor zich. \nDe support komt uit onze buurgemeente: \nMountain High – een vernieuwende rockband uit Aarle-Rixtel. Sinds 2021 brengt deze familieband een unieke mix van alternatieve en pop/rock muziek. Hun focus ligt op eigen muziek vol energie en emotie. \nShowtime: 21:00 \nTickets\nVoorverkoop: € 4\,-\nDeurverkoop: € 6\,-\nTickets verkrijgbaar via: https://poppodiummuziekcafe.weticket.io/live-ivyvox-mountain-high \nMeer info: \nHome \n\nhttps://www.facebook.com/ivyvoxmusic \nhttps://www.facebook.com/profile.php?id=100069157483408
URL:https://ikhouvanhelmond.nl/event/live-ivyvox-mountain-high/
LOCATION:Muziekcafe\, Zuid Koninginnewal 39\, Helmond
CATEGORIES:Muziek
ATTACH;FMTTYPE=image/png:https://ikhouvanhelmond.nl/wp-content/uploads/2025/04/ivyvox.png
END:VEVENT
END:VCALENDAR