BEGIN:VCALENDAR
VERSION:2.0
PRODID:-//IK HOU VAN HELMOND - ECPv6.15.20//NONSGML v1.0//EN
CALSCALE:GREGORIAN
METHOD:PUBLISH
X-ORIGINAL-URL:https://ikhouvanhelmond.nl
X-WR-CALDESC:Evenementen voor IK HOU VAN HELMOND
REFRESH-INTERVAL;VALUE=DURATION:PT1H
X-Robots-Tag:noindex
X-PUBLISHED-TTL:PT1H
BEGIN:VTIMEZONE
TZID:UTC
BEGIN:STANDARD
TZOFFSETFROM:+0000
TZOFFSETTO:+0000
TZNAME:UTC
DTSTART:20240101T000000
END:STANDARD
END:VTIMEZONE
BEGIN:VEVENT
DTSTART;VALUE=DATE:20250220
DTEND;VALUE=DATE:20250706
DTSTAMP:20260423T123149
CREATED:20250204T154557Z
LAST-MODIFIED:20250224T111505Z
UID:362-1740009600-1751759999@ikhouvanhelmond.nl
SUMMARY:Draden van ons slavernijverleden
DESCRIPTION:Samen met inwoners van Helmond en Brabant werken we aan een uniek monumentaal wandkleed naar ontwerp van de Eindhovense kunstenaar Victor Sonna. In het ontwerp/kleed zijn de verhalen over het koloniale verleden van onze provincie verwerkt. Ook jij kan meehelpen het kleed te ‘vullen’ met al deze verhalen. Dat kan door middel van verschillende textieltechnieken als tuften\, borduren\, punchen en patchwork. Ons kasteel is een van de maaklocaties in Brabant\, naast bijvoorbeeld TextielMuseum\, Noordbrabants Museum en Nieuwe Veste Breda. \nHet bijzondere wandkleed wordt gemaakt in het kader van het landelijke project ‘Draden van ons Nederlandse slavernijverleden’. Door samen aan het kleed te werken kunnen we met elkaar praten over het verleden\, en we verbinden op deze manier erfgoed met kunst. Het kleed dat op onze maaklocatie wordt gemaakt\, is onderdeel van een veel groter kleed (in totaal 35 x 2\,5 meter) dat uiteindelijk te zien zal zijn op een nu nog niet bekende locatie. \nHelp jij ook mee?\nOok jij kan meewerken aan dit kleed op de maaklocatie Kasteel Helmond iedere donderdag en zaterdag van 13.00-16.00 uur in de periode 20 februari tot en met 5 juli. Jouw deelname kan vanaf de leeftijd van 9 jaar en is gratis\, ook heb je geen museumkaartje nodig om mee te kunnen doen. En je hoeft ook geen ervaring te hebben met het maken van kleden\, iedereen is welkom! Het maken van het kleed gebeurt onder begeleiding van onze medewerkers. \nGeef je op via https://tickets.museumhelmond.nl/nl/draden-van-ons-slavernijverleden/tickets.
URL:https://ikhouvanhelmond.nl/event/draden-van-ons-slavernijverleden/
LOCATION:Museum Helmond locatie kasteel\, Kasteelplein 1\, Helmond\, 5701PP
CATEGORIES:Actief,Kunst & cultuur
ATTACH;FMTTYPE=image/jpeg:https://ikhouvanhelmond.nl/wp-content/uploads/2025/02/IMG_5802-scaled.jpeg
END:VEVENT
BEGIN:VEVENT
DTSTART;VALUE=DATE:20250321
DTEND;VALUE=DATE:20250619
DTSTAMP:20260423T123149
CREATED:20250206T124521Z
LAST-MODIFIED:20250206T124521Z
UID:462-1742515200-1750291199@ikhouvanhelmond.nl
SUMMARY:Expo 42: Marie van Rijswijk
DESCRIPTION:Elk seizoen presenteert Lokaal 42 Expo 42. Een plek waar ze beginnende en toonaangevende kunstenaars uitnodigen om hun werk te kunnen exposeren. Binnen deze laagdrempelige setting creëren ze de ruimte de kunstenaar en de kijker dichter bij elkaar te brengen. \nMarie van Rijswijk is beeldend maker uit Tilburg. Ze studeert momenteel aan de Gerrit Rietveld Academie in Amsterdam\, waar ze in haar eerste jaar zit. Marie houdt zich vooral bezig met het materiaalexperiment\, waarbij ze organisch en industrieel combineert. Ze laat zich leiden door haar interesse in tekst\, textuur en textiel. Haar werk is een samenspel van meerdere beeldende vormen\, van fotografie tot sculpturale objecten.
URL:https://ikhouvanhelmond.nl/event/expo-42-marie-van-rijswijk/
LOCATION:Lokaal 42\, Markt 42\, Helmond
CATEGORIES:Expositie
END:VEVENT
BEGIN:VEVENT
DTSTART;VALUE=DATE:20250329
DTEND;VALUE=DATE:20250512
DTSTAMP:20260423T123149
CREATED:20250331T133252Z
LAST-MODIFIED:20250331T133252Z
UID:1311-1743206400-1747007999@ikhouvanhelmond.nl
SUMMARY:Expo: Baard & Bast
DESCRIPTION:Als kunstenaar wordt Willeke van der Weerden (1969) gedreven door een niet aflatende nieuwsgierigheid naar de ander. Het is dan ook de mens die in haar schilderijen centraal staat – en meer specifiek: de spanning tussen het innerlijk en het uiterlijk. “We denken vaak dat het uiterlijk veel zegt over iemands karakter\, maar de binnenwereld laat zich niet zo gemakkelijk kennen. Wij mensen blinken uit in het maskeren van onze ware gevoelens. Juist die verborgen laag intrigeert me. Ik vind het mooi om een symbolische lading in een schilderij te verwerken. Een bepaald gevoel of sfeer\, zodat het meer is dan een gelijkend portret.” \nHet verlangen om verder te kijken dan iemands uiterlijk stond ook aan de basis van de serie Baard & Bast. Een baard heeft iets stoers en ongenaakbaars. Sommige mannen geeft het zelfvertrouwen\, voor sommigen is een baard zelfs iets om zich achter te kunnen verschuilen. “Met deze serie wil ik verwachtingspatronen over het uiterlijk doorbreken en vooroordelen bevragen. Door de modellen met afgewende blik te portretteren\, wordt je niet gevangen door de ogen en hoop ik mensen uit te kunnen dagen om aandachtiger te kijken.” Om dezelfde reden geeft ze de schilderijen geen titel mee en laat ze de kijker in het ongewisse over de namen en achtergrond van de modellen. “Ik wil mensen in de gelegenheid stellen om er zelf iets bij te voelen of in te zien. Titels en achtergrondinformatie zouden de waarneming te veel sturen.” Het maakt de kijker een stille getuige van een intiem moment. De mens is krachtig en kwetsbaar tegelijk: “Iedereen heeft een eigen verhaal. Je doet geen recht aan iemands werkelijkheid als je je laat leiden door het uiterlijk. Laten we beter naar elkaar kijken en luisteren en vooral het gesprek aangaan. Ik hoop dat de portretten daartoe uitnodigen.” \nWilleke schildert hoofdzakelijk met de vier kleuren uit het ‘Zornpalet’\, vernoemd naar Zweedse kunstenaar Anders Zorn (1860-1920). Dit palet bestaat uit slechts vier kleuren: titaanwit\, ivoorzwart\, cadmiumrood en gele oker. In de loop der jaren heeft ze dit palet volledig naar haar hand weten te zetten. Deze 20 olieverfportretten worden tentoongesteld in de lichtstraat van De Cacaofabriek in Helmond van 29 maart tot en met 11 mei 2025. Onder de modellen bevinden zich ook enkele bekendere Helmonders en Brabanders\, zoals Sem Jansen (zanger\, gitarist)\, Björn van der Doelen (oud-profvoetballer\, muzikant en acteur)\, Wim Strijbosch (voormalig programmeur concertzaal Cacaofabriek)\, Arno Oberendorff (kunstenaar) en Rob Bouwman (tonprater en tekenaar). \nWilleke is zelf aanwezig op zaterdagmiddag van 14 tot 16 uur en op afspraak 06 – 50 60 43 97.
URL:https://ikhouvanhelmond.nl/event/expo-baard-bast/
LOCATION:De Cacaofabriek\, Cacaokade 1\, Helmond
CATEGORIES:Expositie
ATTACH;FMTTYPE=image/jpeg:https://ikhouvanhelmond.nl/wp-content/uploads/2025/03/Baard-bast-cacaofabriek-scaled.jpg
END:VEVENT
BEGIN:VEVENT
DTSTART;VALUE=DATE:20250406
DTEND;VALUE=DATE:20250602
DTSTAMP:20260423T123149
CREATED:20250310T120847Z
LAST-MODIFIED:20250411T102319Z
UID:1084-1743897600-1748822399@ikhouvanhelmond.nl
SUMMARY:Expo: Grondstof
DESCRIPTION:Zes kunstenaars en één kunstenaarsduo presenteren in de tentoonstelling Grondstof hun werk\, waarbij de fascinatie voor het materiaal centraal staat. De uitingsvormen zijn net zo divers als de kunstenaars: kunstenaarsduo Kaneli & Smit\, Nan Groot Antink\, Lucie Havel\, Jerrold Saija\, Joppe Venema\, Margreet Hajee en Karin Hoogesteger. De gemeenschappelijke deler voor al deze kunstenaars is dat de grondstof naast het gebruikte materiaal\, óók het thema is van het werk dat ze maken. Uiteindelijk vallen werk en grondstoffen bijna samen. \nGrondstof wordt zondag 6 april om 15.00 uur officieel geopend in De Cacaofabriek Expo en is t/m 1 juni 2025 dagelijks te bezoeken (vrije toegang).
URL:https://ikhouvanhelmond.nl/event/grondstof/
LOCATION:De Cacaofabriek\, Cacaokade 1\, Helmond
CATEGORIES:Expositie
ATTACH;FMTTYPE=image/png:https://ikhouvanhelmond.nl/wp-content/uploads/2025/03/Grondstof.png
END:VEVENT
BEGIN:VEVENT
DTSTART;VALUE=DATE:20250416
DTEND;VALUE=DATE:20250418
DTSTAMP:20260423T123149
CREATED:20250210T133603Z
LAST-MODIFIED:20250210T133603Z
UID:649-1744761600-1744934399@ikhouvanhelmond.nl
SUMMARY:De Gestampte Meisjes - Bang
DESCRIPTION:Wat is jouw grootste nachtmerrie? \nKom erachter in de absurde en muzikale voorstelling van De Gestampte Meisjes. In BANG! nemen ze hun grootste angsten onder de loep. Van oorlog tot die ene puist op je voorhoofd. BANG! is een voorstelling over angsten en nachtmerries\, gebaseerd op de toenemende angstcultuur onder jongeren. De Gestampte Meisjes laat het publiek zien dat iedereen angsten kent\, ongeacht leeftijd en leert dat je je angsten moet omarmen. \nBeleef in een mix van cabaret meets House of Horror de gekste nachtmerries met vette beats\, onverwachte wendingen en angstaanjagend grappig: Een nachtmerrie waar je alleen maar van kunt dromen. \nEr zijn voorstellingen op:\n– Woensdag 16 april om 10.15 uur en om 14.15 uur.\n– Donderdag 17 april om 10.15 uur en om 14.15 uur.
URL:https://ikhouvanhelmond.nl/event/de-gestampte-meisjes-bang/
LOCATION:Annatheater\, Floreffestraat 21a\, Helmond
CATEGORIES:Theater
END:VEVENT
BEGIN:VEVENT
DTSTART;TZID=UTC:20250416T190000
DTEND;TZID=UTC:20250416T211200
DTSTAMP:20260423T123149
CREATED:20250310T122654Z
LAST-MODIFIED:20250310T122654Z
UID:1100-1744830000-1744837920@ikhouvanhelmond.nl
SUMMARY:Literair Café - Call Me By Your Name
DESCRIPTION:De Filmclub vanuit het Literair Café in De Cacaofabriek is terug! Één woensdagavond per maand kun je nationale en/of internationale films gebaseerd op literaire werken in onze filmzalen zien\, welke worden ingeleid door kenner Jan Salden. Kom kijken en bepaal zelf wat je beter vindt: het boek of de film? Meer info en aanmelden kan hier. \nOp woensdag 16 april is het tijd voor het vierde Literair Café met de film Call Me By Your Namevan regisseur Luca Guadagnino\, gebaseerd op het gelijknamige boek van André Acimans. Zoals gezegd is Jan Salden van de partij om de film(s) van deskundig commentaar te voorzien. Jan zal jouw filmblik zeker verruimen. \n\n\n\nMet prijzen overladen verfilming van André Acimans gelijknamige roman door de Italiaan Guadagnino (bekend van I Am Love en A Bigger Splash). Alle lof is begrijpelijk\, want Call Me by Your Name is een fantastische film. Sprankelend\, intiem en eerlijk. \nDe gevoelige en gecultiveerde Elio is enig kind van de Amerikaanse-Italiaanse-Franse Perlman-familie. Hij kijkt uit naar weer een luie zomer in de villa van zijn ouders op het prachtige en rustige Italiaanse platteland. Dan arriveert Oliver\, een academicus die zijn vader komt helpen met een onderzoek. Er ontstaat een plotselinge en heftige romance tussen de adolescente jongen en de zomergast aan de Italiaanse Rivièra.
URL:https://ikhouvanhelmond.nl/event/literair-cafe-call-me-by-your-name/
LOCATION:De Cacaofabriek\, Cacaokade 1\, Helmond
CATEGORIES:Film
ATTACH;FMTTYPE=image/png:https://ikhouvanhelmond.nl/wp-content/uploads/2025/03/Callmebyyourname.png
END:VEVENT
BEGIN:VEVENT
DTSTART;TZID=UTC:20250416T210000
DTEND;TZID=UTC:20250416T230000
DTSTAMP:20260423T123149
CREATED:20250404T123932Z
LAST-MODIFIED:20250404T123932Z
UID:1366-1744837200-1744844400@ikhouvanhelmond.nl
SUMMARY:Kunstlokaal met Maarten Doorman
DESCRIPTION:Tijdens de 111e editie van Kunstlokaal42\, op woensdag 16 april\, is filosoof Maarten Doorman te gast. Vorig jaar was hij te gast tijdens de 100e editie van Kunstlokaal42. Maarten Doorman vond de opzet en sfeer van Kunstloaal42 dermate goed en prettig dat hij graag een keer terug wilde komen. We zijn daarom blij dat we hem mogen verwelkomen in april dat zoals elk jaar Maand van de Filosofie is. Het thema van de Maand van de Filosofie 2025 is ‘Mij een zorg’. \nIs wie geen zorgen heeft\, zorgeloos? Integendeel. Ook al hebben we niet graag te veel zorgen\, als we helemaal niet zouden kunnen zorgen voor vrienden\, buren\, dieren\, planten\, en de wereld om ons heen\, zou ons leven zinloos voelen. Zorgen is niet alleen maar zwaar\, maar zorgen is ook zorgen dat het leuk wordt\, dat het goed komt\, dat het mooi wordt\, en zorgen is ook zorgen voor jezelf. In Kunstlokaal42 maakten we ons de afgelopen jaren vooral zorgen om het kunst- en cultuurklimaat. Wat kunnen wij doen om dat niet alleen in stand te houden\, maar ook te verbeteren. Lokaal\, nationaal en internationaal.
URL:https://ikhouvanhelmond.nl/event/kunstlokaal-met-maarten-doorman/
LOCATION:Lokaal 42\, Markt 42\, Helmond
CATEGORIES:Kunst & cultuur
ATTACH;FMTTYPE=image/png:https://ikhouvanhelmond.nl/wp-content/uploads/2025/04/kunstlokaal-maarten-doorman.png
END:VEVENT
END:VCALENDAR