BEGIN:VCALENDAR
VERSION:2.0
PRODID:-//IK HOU VAN HELMOND - ECPv6.15.20//NONSGML v1.0//EN
CALSCALE:GREGORIAN
METHOD:PUBLISH
X-ORIGINAL-URL:https://ikhouvanhelmond.nl
X-WR-CALDESC:Evenementen voor IK HOU VAN HELMOND
REFRESH-INTERVAL;VALUE=DURATION:PT1H
X-Robots-Tag:noindex
X-PUBLISHED-TTL:PT1H
BEGIN:VTIMEZONE
TZID:UTC
BEGIN:STANDARD
TZOFFSETFROM:+0000
TZOFFSETTO:+0000
TZNAME:UTC
DTSTART:20240101T000000
END:STANDARD
END:VTIMEZONE
BEGIN:VEVENT
DTSTART;VALUE=DATE:20250220
DTEND;VALUE=DATE:20250706
DTSTAMP:20260423T140904
CREATED:20250204T154557Z
LAST-MODIFIED:20250224T111505Z
UID:362-1740009600-1751759999@ikhouvanhelmond.nl
SUMMARY:Draden van ons slavernijverleden
DESCRIPTION:Samen met inwoners van Helmond en Brabant werken we aan een uniek monumentaal wandkleed naar ontwerp van de Eindhovense kunstenaar Victor Sonna. In het ontwerp/kleed zijn de verhalen over het koloniale verleden van onze provincie verwerkt. Ook jij kan meehelpen het kleed te ‘vullen’ met al deze verhalen. Dat kan door middel van verschillende textieltechnieken als tuften\, borduren\, punchen en patchwork. Ons kasteel is een van de maaklocaties in Brabant\, naast bijvoorbeeld TextielMuseum\, Noordbrabants Museum en Nieuwe Veste Breda. \nHet bijzondere wandkleed wordt gemaakt in het kader van het landelijke project ‘Draden van ons Nederlandse slavernijverleden’. Door samen aan het kleed te werken kunnen we met elkaar praten over het verleden\, en we verbinden op deze manier erfgoed met kunst. Het kleed dat op onze maaklocatie wordt gemaakt\, is onderdeel van een veel groter kleed (in totaal 35 x 2\,5 meter) dat uiteindelijk te zien zal zijn op een nu nog niet bekende locatie. \nHelp jij ook mee?\nOok jij kan meewerken aan dit kleed op de maaklocatie Kasteel Helmond iedere donderdag en zaterdag van 13.00-16.00 uur in de periode 20 februari tot en met 5 juli. Jouw deelname kan vanaf de leeftijd van 9 jaar en is gratis\, ook heb je geen museumkaartje nodig om mee te kunnen doen. En je hoeft ook geen ervaring te hebben met het maken van kleden\, iedereen is welkom! Het maken van het kleed gebeurt onder begeleiding van onze medewerkers. \nGeef je op via https://tickets.museumhelmond.nl/nl/draden-van-ons-slavernijverleden/tickets.
URL:https://ikhouvanhelmond.nl/event/draden-van-ons-slavernijverleden/
LOCATION:Museum Helmond locatie kasteel\, Kasteelplein 1\, Helmond\, 5701PP
CATEGORIES:Actief,Kunst & cultuur
ATTACH;FMTTYPE=image/jpeg:https://ikhouvanhelmond.nl/wp-content/uploads/2025/02/IMG_5802-scaled.jpeg
END:VEVENT
BEGIN:VEVENT
DTSTART;VALUE=DATE:20250321
DTEND;VALUE=DATE:20250401
DTSTAMP:20260423T140904
CREATED:20250207T193653Z
LAST-MODIFIED:20250328T120257Z
UID:496-1742515200-1743465599@ikhouvanhelmond.nl
SUMMARY:Voorjaarskermis Helmond centrum
DESCRIPTION:De voorjaarskermis wordt ook in 2025 weer een groot feest waar iedereen welkom is. Dus of je nu plezier met je vrienden wil hebben of zin hebt in een leuke dag uit voor het hele gezin\, kom naar de Voorjaarskermis in Helmond die dit jaar nóg spectaculairder belooft te worden. \n\nLees alles over de Voorjaarskermis op https://ikhouvanhelmond.nl/alles-wat-je-moet-weten-over-de-voorjaarskermis-2025-in-helmond/\n\n 
URL:https://ikhouvanhelmond.nl/event/voorjaarskermis-helmond-centrum/
LOCATION:Helmond centrum
CATEGORIES:Vermaak
ATTACH;FMTTYPE=image/jpeg:https://ikhouvanhelmond.nl/wp-content/uploads/2025/02/IMG_0541-scaled.jpg
END:VEVENT
BEGIN:VEVENT
DTSTART;VALUE=DATE:20250321
DTEND;VALUE=DATE:20250619
DTSTAMP:20260423T140904
CREATED:20250206T124521Z
LAST-MODIFIED:20250206T124521Z
UID:462-1742515200-1750291199@ikhouvanhelmond.nl
SUMMARY:Expo 42: Marie van Rijswijk
DESCRIPTION:Elk seizoen presenteert Lokaal 42 Expo 42. Een plek waar ze beginnende en toonaangevende kunstenaars uitnodigen om hun werk te kunnen exposeren. Binnen deze laagdrempelige setting creëren ze de ruimte de kunstenaar en de kijker dichter bij elkaar te brengen. \nMarie van Rijswijk is beeldend maker uit Tilburg. Ze studeert momenteel aan de Gerrit Rietveld Academie in Amsterdam\, waar ze in haar eerste jaar zit. Marie houdt zich vooral bezig met het materiaalexperiment\, waarbij ze organisch en industrieel combineert. Ze laat zich leiden door haar interesse in tekst\, textuur en textiel. Haar werk is een samenspel van meerdere beeldende vormen\, van fotografie tot sculpturale objecten.
URL:https://ikhouvanhelmond.nl/event/expo-42-marie-van-rijswijk/
LOCATION:Lokaal 42\, Markt 42\, Helmond
CATEGORIES:Expositie
END:VEVENT
BEGIN:VEVENT
DTSTART;TZID=UTC:20250327T201500
DTEND;TZID=UTC:20250327T214500
DTSTAMP:20260423T140904
CREATED:20250225T064623Z
LAST-MODIFIED:20250225T064623Z
UID:901-1743106500-1743111900@ikhouvanhelmond.nl
SUMMARY:Het Sterrehuis
DESCRIPTION:Het Sterrehuis is een even aangrijpende als lichte voorstelling over vier kinderen die terugblikken op hun jeugd in een kindertehuis. Een actueel verhaal\, radicaal verteld vanuit het kinderperspectief. \nOntmoet vier Sterrehuis-kinderen: Mea wil niets liever dan naar een pleeggezin\, Frenkie zoekt zijn familie\, Peet mist zijn moeder en Summer wil nooit meer terug naar huis. In een dromerig niemandsland bloeit een verhaal op van grote eenzaamheid en voorzichtige vriendschap waarin de fantasie steeds wordt doorbroken door de harde werkelijkheid. Een verhaal over de moedige zoektocht naar geborgenheid en het vinden van je eigen plek. \n\n\n\nLaagland-huisschrijver Annet Bremen liet zich inspireren door het Heerlense Sterrehuis\, exemplarisch voor vele kindertehuizen uit de jaren ’70. Deze prijswinnende theatertekst\, gebaseerd op Bremens onderzoek en interviews met voormalig Sterrehuis-kinderen en -medewerkers\, is actueler dan ooit. Regietalent Silke van Kamp creëerde op basis van deze tekst – in 2023 bekroond met de internationale jeugdtheaterschrijfprijs Kaas & Kappes én genomineerd voor de Toneelschrijfprijs – een indringende voorstelling met een fantastische cast. \nHet Sterrehuis was eerder al dé festivalhit tijdens Cultura Nova 2022 en ontving lovende persreacties. De Volkskrant (4 sterren): “Een even grappig en speels alsook grimmig en aangrijpend relaas over de loyaliteit aan falende ouders\, het verlangen naar een thuis en het moeten auditeren voor pleeggezinnen.” Theaterkrant bestempelde Het Sterrehuis als ‘Keuze van de criticus’: “Heel speels en krachtig brengen de vier spelers hun personages tot leven\, geloofwaardig\, naturel en tegelijkertijd treffend subtiel en suggestief laten ze twijfels\, woede\, drift\, eenzaamheid overgaan in vriendschap\, in troost bij elkaar\, steun\, samen plezier hebben\, moed.” Het juryrapport van de Toneelschrijfprijs looft Bremens ‘zinderende taal’: “Bremens poëtische pen zalft de eenzaamheid en het verdriet niet weg. De poëzie triggert de verbeelding en\, daardoor\, de emoties van de lezer. Deze toegankelijke tekst snijdt in je hart.” \nEen voorstelling voor volwassenen\, ook geschikt voor kinderen vanaf 10 jaar. Speciaal aanbevolen voor ervaringsdeskundigen en medewerkers uit de jeugdzorg. \n45 Minuten voor aanvang wordt er een inleiding gegeven door Annette Embrechts\, dans- en theaterjournaliste voor de Volkskrant. Hiervoor kun je kosteloos een plekje reserveren tijdens het bestelproces.
URL:https://ikhouvanhelmond.nl/event/het-sterrehuis/
LOCATION:Theater het Speelhuis\, Speelhuisplein 2\, Helmond
CATEGORIES:Theater
END:VEVENT
BEGIN:VEVENT
DTSTART;TZID=UTC:20250327T210000
DTEND;TZID=UTC:20250327T230000
DTSTAMP:20260423T140904
CREATED:20250205T175208Z
LAST-MODIFIED:20250310T100658Z
UID:435-1743109200-1743116400@ikhouvanhelmond.nl
SUMMARY:Rootsclub keukentafelsessie
DESCRIPTION:Elke laatste donderdag van de maand is er een keukentafelsessie bij Lokaal 42.Tijdens de keukentafelsessie wordt er akoestisch gespeeld en liederen uitgewisseld en/of samen gespeeld. Wie kent ’t niet aan de keukentafel of zoals de Ieren het doen in de kroeg\, je lied laten horen\, samen zingen\, spelen of luisteren met een goed glas op tafel.Kortom trek je instrument van de plank\, schraap je keel en schuif aan.
URL:https://ikhouvanhelmond.nl/event/rootsclub-keukentafelsessie-2/
LOCATION:Lokaal 42\, Markt 42\, Helmond
CATEGORIES:Muziek
ATTACH;FMTTYPE=image/jpeg:https://ikhouvanhelmond.nl/wp-content/uploads/2025/03/rootsclub-keukentafelsessie-lokaal42-helmond-scaled.jpg
END:VEVENT
END:VCALENDAR