BEGIN:VCALENDAR
VERSION:2.0
PRODID:-//IK HOU VAN HELMOND - ECPv6.15.20//NONSGML v1.0//EN
CALSCALE:GREGORIAN
METHOD:PUBLISH
X-WR-CALNAME:IK HOU VAN HELMOND
X-ORIGINAL-URL:https://ikhouvanhelmond.nl
X-WR-CALDESC:Evenementen voor IK HOU VAN HELMOND
REFRESH-INTERVAL;VALUE=DURATION:PT1H
X-Robots-Tag:noindex
X-PUBLISHED-TTL:PT1H
BEGIN:VTIMEZONE
TZID:UTC
BEGIN:STANDARD
TZOFFSETFROM:+0000
TZOFFSETTO:+0000
TZNAME:UTC
DTSTART:20230101T000000
END:STANDARD
END:VTIMEZONE
BEGIN:VEVENT
DTSTART;VALUE=DATE:20241019
DTEND;VALUE=DATE:20250324
DTSTAMP:20260423T140737
CREATED:20250204T153527Z
LAST-MODIFIED:20250306T094028Z
UID:364-1729296000-1742774399@ikhouvanhelmond.nl
SUMMARY:Close Enough
DESCRIPTION:“If your pictures aren’t good enough\, you aren’t close enough.”– Robert Capa \nKrachtige foto’s die in contact staan met de hedendaagse wereld: in de tentoonstelling Close Enough is het werk samengebracht van 13 vrouwelijke Magnum fotografen. Juist zíj zijn op dit moment toonaangevend voor de toekomst van het fotografencollectief. In 14 fotoseries\, bestaande uit samen meer dan 150 werken\, wordt duidelijk waarom. Elke fotoserie staat voor een belangrijk moment in de carrière van de desbetreffende fotograaf. Soms zijn het foto’s die voor het eerst te zien zijn\, dan is het weer een project uit het archief getoond in een nieuwe context\, of staat de serie voor een typerend werkproces. Ieder project is het resultaat van een langdurige samenwerking met de geportretteerde\, of van langdurig onderzoek of een persoonlijke fascinatie. \nMeer weten over de werken in deze tentoonstelling? Stel je vraag aan de museumdocent\, aanwezig in de tentoonstellingsruimte van 14.00-16.00 uur op de volgende data: 2\, 9\, 16 en 23 februari\, 9\, 16 en 23 maart. 
URL:https://ikhouvanhelmond.nl/event/close-enough/
LOCATION:Museum Helmond locatie kunsthal\, Frans Jozeph van Thielpark 7\, Helmond
CATEGORIES:Expositie
END:VEVENT
BEGIN:VEVENT
DTSTART;VALUE=DATE:20250220
DTEND;VALUE=DATE:20250706
DTSTAMP:20260423T140737
CREATED:20250204T154557Z
LAST-MODIFIED:20250224T111505Z
UID:362-1740009600-1751759999@ikhouvanhelmond.nl
SUMMARY:Draden van ons slavernijverleden
DESCRIPTION:Samen met inwoners van Helmond en Brabant werken we aan een uniek monumentaal wandkleed naar ontwerp van de Eindhovense kunstenaar Victor Sonna. In het ontwerp/kleed zijn de verhalen over het koloniale verleden van onze provincie verwerkt. Ook jij kan meehelpen het kleed te ‘vullen’ met al deze verhalen. Dat kan door middel van verschillende textieltechnieken als tuften\, borduren\, punchen en patchwork. Ons kasteel is een van de maaklocaties in Brabant\, naast bijvoorbeeld TextielMuseum\, Noordbrabants Museum en Nieuwe Veste Breda. \nHet bijzondere wandkleed wordt gemaakt in het kader van het landelijke project ‘Draden van ons Nederlandse slavernijverleden’. Door samen aan het kleed te werken kunnen we met elkaar praten over het verleden\, en we verbinden op deze manier erfgoed met kunst. Het kleed dat op onze maaklocatie wordt gemaakt\, is onderdeel van een veel groter kleed (in totaal 35 x 2\,5 meter) dat uiteindelijk te zien zal zijn op een nu nog niet bekende locatie. \nHelp jij ook mee?\nOok jij kan meewerken aan dit kleed op de maaklocatie Kasteel Helmond iedere donderdag en zaterdag van 13.00-16.00 uur in de periode 20 februari tot en met 5 juli. Jouw deelname kan vanaf de leeftijd van 9 jaar en is gratis\, ook heb je geen museumkaartje nodig om mee te kunnen doen. En je hoeft ook geen ervaring te hebben met het maken van kleden\, iedereen is welkom! Het maken van het kleed gebeurt onder begeleiding van onze medewerkers. \nGeef je op via https://tickets.museumhelmond.nl/nl/draden-van-ons-slavernijverleden/tickets.
URL:https://ikhouvanhelmond.nl/event/draden-van-ons-slavernijverleden/
LOCATION:Museum Helmond locatie kasteel\, Kasteelplein 1\, Helmond\, 5701PP
CATEGORIES:Actief,Kunst & cultuur
ATTACH;FMTTYPE=image/jpeg:https://ikhouvanhelmond.nl/wp-content/uploads/2025/02/IMG_5802-scaled.jpeg
END:VEVENT
BEGIN:VEVENT
DTSTART;VALUE=DATE:20250224
DTEND;VALUE=DATE:20250324
DTSTAMP:20260423T140737
CREATED:20250211T201645Z
LAST-MODIFIED:20250306T093955Z
UID:700-1740355200-1742774399@ikhouvanhelmond.nl
SUMMARY:Expo Fresh Cacao
DESCRIPTION:Nieuwe inspiratie van nieuw academietalent! We presenteren in De Cacaofabriek Expo de nieuwe lichting talenten\, die in de zomer van 2024 afstudeerde aan verschillende Nederlandse academies. De expositie wordt officieel geopend op zondag 23 februari om 15.00 uur. Van 24 februari tot en met 23 maart 2025 is het werk van de jonge kunstenaars dagelijks te zien in onze expositieruimte\, onder de naam Fresh Cacao. Op zondag 23 maart is er een bijzondere finissage van Fresh Cacao: één van de beloftes zal de Carat Lucas Gassel Prijs in ontvangst nemen. Hieronder stellen we de selectie graag aan je voor en natuurlijk nodigen we je uit om (gratis) onze expo te bezoeken. \n\n\n\n\n\n\n\n\n\n\n\nEen podium voor jonge makers\nDe Cacaofabriek vindt het belangrijk om ruimte te geven aan jonge makers. Ruimte om zich te presenteren en verder te ontwikkelen. Daarom is de expositie Fresh Cacao een vast onderdeel in het tentoonstellingsprogramma. Voor deze expositie worden eindexamenkandidaten van verschillende kunstacademies gescout en uitgenodigd om hun werk tentoon te stellen in de monumentale ruimtes van De Cacaofabriek. \nVers academietalent – lichting 2024\nDe artistieke commissie van De Cacaofabriek (bestaande uit Ageeth Boermans\, Julienne Tullemans\, Bert Loerakker en Sebastiaan Dijk) bezocht dit jaar de Hogeschool voor de Kunsten Utrecht\, St. Joost School of Art & Design (Breda en Den Bosch)\, Maastricht Institute of Arts en de Koninklijke Academie voor Beeldende Kunst in Den Haag. Van deze academies zijn de volgende kunstenaars geselecteerd: \nSelectie 2024-2025:\n\nAlessio Faustini (Maastricht Institute of Arts)\nInne Feenstra (HKU Utrecht)\nFrans van Hoek (KABK Den Haag)\nJoost Hutjes (HKU Utrecht)\nKamau Nganga (KABK Den Haag)\nAnnabel Quick (KABK Den Haag)\nValentijn Schmitz (Maastricht Institute of Arts)\nMartijn Verzijl (St. Joost Den Bosch)\n\n\n\n\n\n\n\n\n\n\n\nCarat Lucas Gassel Prijs #7\nOm de aanmoediging van jong talent kracht bij te zetten wordt dit jaar op zondag 23 maart voor de zevende keer aan één van de Fresh Cacao beloftes de Carat Lucas Gassel Prijs uitgereikt. Deze prijs is in het leven geroepen door Stichting Carat om jong creatief talent een financiële ondersteuning te bieden. De jury die de winnaar zal selecteren bestaat dit jaar uit: Esther Didden\, onder andere Hoofdredacteur van BK informatie en onderzoeker Kunst in de Openbare Ruimte\, Haiko Sleumer\, kunsthistoricus en  curator hedendaagse kunst van Museum W in Weert\, Fabienne Swinkels als vertegenwoordiger van Stichting Carat.
URL:https://ikhouvanhelmond.nl/event/expo-fresh-cacao/
LOCATION:De Cacaofabriek\, Cacaokade 1\, Helmond
CATEGORIES:Expositie
END:VEVENT
BEGIN:VEVENT
DTSTART;TZID=UTC:20250228T210000
DTEND;TZID=UTC:20250301T030000
DTSTAMP:20260423T140737
CREATED:20250208T154959Z
LAST-MODIFIED:20250208T154959Z
UID:591-1740776400-1740798000@ikhouvanhelmond.nl
SUMMARY:Foute avond
DESCRIPTION:Al jaren een begrip in het Muziekcafé.\nOnze eigen FOUTE AVOND\, Carnaval-editie met DJ C0C0nuts!! \nDe beste\, foutste en raarste plaatjes komen voorbij. Wat eigenlijk net niet kan\, kan vanavond wel. Van stoffige smartlap naar 90’s house en van Barby Girl naar de Spice Girls…dokter Bernard is er ook bij…schlagertje hier en daar….Why tell me why\, fout 80’s deuntje\, Dansen\, feesten en losgaan op de foutste plaatjes van de afgelopen 50 jaar. \nTrek je mafste pak aan en kom geniet van een avond vol nummers die je niet vaak in Muziekcafé zal horen.
URL:https://ikhouvanhelmond.nl/event/foute-avond/
LOCATION:Muziekcafe\, Zuid Koninginnewal 39\, Helmond
CATEGORIES:Muziek
ATTACH;FMTTYPE=image/webp:https://ikhouvanhelmond.nl/wp-content/uploads/2025/02/FA1.jpg.webp
END:VEVENT
BEGIN:VEVENT
DTSTART;TZID=UTC:20250301T103000
DTEND;TZID=UTC:20250301T110000
DTSTAMP:20260423T140737
CREATED:20250225T065613Z
LAST-MODIFIED:20250225T065734Z
UID:911-1740825000-1740826800@ikhouvanhelmond.nl
SUMMARY:Poppentheater - Flappie is jarig
DESCRIPTION:Flappie (het konijn) is jarig Flappie is jarig. Hij wordt uitgenodigd om bij Jan Klaassen en Katrijn het verjaardagsfeestje te vieren.\n\nKatrijn gaat een verjaardagstaart bakken en Jan Klaassen zorgt voor het kadootje. Maar dan moet ook nog de poppenkast versierd worden en Flappie gaat voor de kinderen een traktatie maken. Maar of dat lukt? \nVoor kinderen van 2-4 jaar.
URL:https://ikhouvanhelmond.nl/event/poppentheater-flappie-is-jarig/
LOCATION:De Cacaofabriek\, Cacaokade 1\, Helmond
CATEGORIES:Jeugd
END:VEVENT
BEGIN:VEVENT
DTSTART;TZID=UTC:20250301T110000
DTEND;TZID=UTC:20250301T120000
DTSTAMP:20260423T140737
CREATED:20250218T121929Z
LAST-MODIFIED:20250218T121929Z
UID:782-1740826800-1740830400@ikhouvanhelmond.nl
SUMMARY:Spurriemis
DESCRIPTION:Kom samen met ons een carnavalskruisje halen voor de start van de carnaval. Sluit daarna gezellig aan bij 2\,5 uurkes vurraf in de Kloosterstraat.
URL:https://ikhouvanhelmond.nl/event/spurriemis/
LOCATION:Sint Trudokerk\, Dorpsstraat 41\, Helmond
CATEGORIES:Vermaak
END:VEVENT
BEGIN:VEVENT
DTSTART;TZID=UTC:20250301T120000
DTEND;TZID=UTC:20250301T143000
DTSTAMP:20260423T140737
CREATED:20250218T122121Z
LAST-MODIFIED:20250218T122121Z
UID:785-1740830400-1740839400@ikhouvanhelmond.nl
SUMMARY:2\,5 uurkes vurraf
DESCRIPTION:Luid met de Spurriezeiers de carnaval in met 2\,5 uurkes vurraf! Ben er op tijd\, want ze beginnen stipt om 12:00 in de kloosterstraat. Dit jaar is het 2\,5 uurkes vurraf in een nieuw jasje gestoken\, dus ben erbij!
URL:https://ikhouvanhelmond.nl/event/25-uurkes-vurraf/
LOCATION:Kloosterstraat\, Helmond
CATEGORIES:Vermaak
END:VEVENT
BEGIN:VEVENT
DTSTART;TZID=UTC:20250301T130000
DTEND;TZID=UTC:20250301T133000
DTSTAMP:20260423T140737
CREATED:20250225T065928Z
LAST-MODIFIED:20250225T065928Z
UID:915-1740834000-1740835800@ikhouvanhelmond.nl
SUMMARY:Poppentheater - De verjaardag van de koning
DESCRIPTION:Jan Klaassen krijgt een uitnodiging van de Koning om op zijn verjaardagsfeest te komen.\n\nTovenaar Arie Bombarie is niet uitgenodigd en is daar heel boos over. Jan Klaassen heeft een cadeau gekocht maar daar heeft Arie Bombarie ook wel trek in. Of het cadeau bij de Koning terechtkomt?\n\nVoor kinderen van 4 – 8 jaar.
URL:https://ikhouvanhelmond.nl/event/poppentheater-de-verjaardag-van-de-koning/
LOCATION:De Cacaofabriek\, Cacaokade 1\, Helmond
END:VEVENT
BEGIN:VEVENT
DTSTART;TZID=UTC:20250301T130000
DTEND;TZID=UTC:20250301T163000
DTSTAMP:20260423T140737
CREATED:20250218T121712Z
LAST-MODIFIED:20250218T121712Z
UID:780-1740834000-1740846600@ikhouvanhelmond.nl
SUMMARY:Optocht Mierlo-Hout
DESCRIPTION:“Net niet de grootste\, zeker de Gezelligste van het zuiden”. \nOm klokslag 13.00 uur wordt het startsein gegeven en trekt de optocht langs de volgende route:\nVia terrein Deelen’s Stoffen naar Houtse Parallelweg\, Hoofdstraat en waar ter hoogte van de Windmolenstraat de ontbinding zal plaatsvinden. \nNa afloop van de optocht worden aan de hand van de jury-uitslag de prijswinnaars bekendgemaakt in onze Hoftempel de Geseldonk. Naar verwachting zal dit geschieden rond de klok van 16.30 uur.
URL:https://ikhouvanhelmond.nl/event/optocht-mierlo-hout/
CATEGORIES:Vermaak
END:VEVENT
BEGIN:VEVENT
DTSTART;TZID=UTC:20250301T140000
DTEND;TZID=UTC:20250301T180000
DTSTAMP:20260423T140737
CREATED:20250207T203605Z
LAST-MODIFIED:20250226T100153Z
UID:533-1740837600-1740852000@ikhouvanhelmond.nl
SUMMARY:Opening carnaval & kei opgraven
DESCRIPTION:Zodra de stadssleutel is overgedragen aan Prins Briek\, barst het feest op het Mizunallen-plein in alle hevigheid los! Op het podium zorgen bekende carnavalsartiesten (Veul Gère\, de Alpenzusjes & Franky Franklin) voor een topfeest. Ook zullen diverse lokale acts en stralende dansmariekes van verschillende carnavalsverenigingen met elkaar voor een geweldige sfeer neerzetten. \nTraditiegetrouw komt om 16:11 uur de Kei uit de grond\, hét officiële startsein van het Helmondse carnaval. Een fantastisch gezellige middag die je niet wil missen!
URL:https://ikhouvanhelmond.nl/event/opening-carnaval-kei-opgraven/
LOCATION:Mizunallenplein\, Steenweg 1\, Helmond
CATEGORIES:Vermaak
ATTACH;FMTTYPE=image/jpeg:https://ikhouvanhelmond.nl/wp-content/uploads/2025/02/IMG_5837.jpg
END:VEVENT
BEGIN:VEVENT
DTSTART;TZID=UTC:20250301T143000
DTEND;TZID=UTC:20250301T170000
DTSTAMP:20260423T140737
CREATED:20250218T122737Z
LAST-MODIFIED:20250218T122737Z
UID:788-1740839400-1740848400@ikhouvanhelmond.nl
SUMMARY:Optocht Stiphout
DESCRIPTION:Niet de grootste maar wel de mooiste optocht van Helmond. \nMet aansluitend prijsuitreiking en optochtbal!
URL:https://ikhouvanhelmond.nl/event/optocht-stiphout/
CATEGORIES:Vermaak
END:VEVENT
BEGIN:VEVENT
DTSTART;TZID=UTC:20250301T200000
DTEND;TZID=UTC:20250301T220000
DTSTAMP:20260423T140737
CREATED:20250224T102645Z
LAST-MODIFIED:20250224T102645Z
UID:831-1740859200-1740866400@ikhouvanhelmond.nl
SUMMARY:Carnavalsklucht - St. Genesius
DESCRIPTION:Traditiegetrouw brengt de Helmondse Toneelgroep St. Genesius een hilarische carnavalsklucht ten tonele. Net als voorgaande keren staat St. Genesius garant voor een verrassend stuk\, vol humor en met een Helmonds accent. Met inmiddels meer dan veertig edities op de teller is dit een veelbesproken theatertraditie in Helmond en omstreken
URL:https://ikhouvanhelmond.nl/event/carnavalsklucht-st-genesius/
LOCATION:Theater het Speelhuis\, Speelhuisplein 2\, Helmond
CATEGORIES:Theater
END:VEVENT
BEGIN:VEVENT
DTSTART;TZID=UTC:20250301T200000
DTEND;TZID=UTC:20250302T010000
DTSTAMP:20260423T140737
CREATED:20250214T083929Z
LAST-MODIFIED:20250214T083955Z
UID:743-1740859200-1740877200@ikhouvanhelmond.nl
SUMMARY:Proud 2B Fout Party
DESCRIPTION:Ben jij klaar voor een avond die fout voelt\, maar helemaal goed is? Trek je meest hilarische outfit aan\, laat je zorgen thuis\, en dompel je onder in een avond vol glitter\, beats en ongegeneerd plezier! 🎶✨ \n🌟 Wat kun je verwachten? \n\nLive optreden door Tom Bijsterveld!\nDe avond wordt extra bijzonder met een spetterend optreden van niemand minder dan Tom Bijsterveld. Hij brengt de zaal tot leven met de lekkerste Hollandse knallers waar iedereen luidkeels op mee kan zingen. 🎤🎵\n\n\nDe foutste hits aller tijden: Van guilty pleasures tot meezingers die je keihard mee moet blèren. DJ Perry draait alles waar je stiekem van houdt! Enne\, tis carnaval hè\, dus dat draait ie sowieso!\n\n\nEen over-the-top decor: Denk aan discolampen\, confetti-explosies en een dansvloer die zindert van energie.\n\n\nFoute verkleedwedstrijd: Haal je meest bizarre outfit uit de kast. Neon\, panterprint\, schoudervullingen of foute carnavalskleding – alles mag!\n\n\nSfeer om nooit te vergeten: Dit is een avond waarop alles kan en niets te gek is. Lach\, dans en zing alsof niemand kijkt!\n\n\nFotomomentjes: Onze fotograaf legt de beste (en foutste) momenten vast.\n\n🎭 Dresscode: Hoe fouter\, hoe beter! Durf jij op te vallen? Glitterpak\, foute kersttrui\, of een outfit geïnspireerd op je favoriete ’80s icoon – leef je uit! En uiteraard kun je ook gewoon jouw carnavalspekske aantrekken\, niks mis mee! \n🎟️ Tickets:\nDeze zijn lekker geprijst! Maar 5 euro’tjes de neus. Wees er snel bij\, want de tickets vliegen de deur uit! \nEn.. voor leden van de Brandeliers is de entree voor de Proud 2B Fout Party gratis!! \n🔥 Dus…\nLaat je zorgen varen\, trek je dancing shoes aan en beleef een avond vol plezier en gekkigheid. Proud 2B Fout is de plek waar alles mag en niets moet. En met het optreden van Tom Bijsterveld belooft dit een avond te worden die je nooit meer vergeet! Jij komt toch ook? 🎊
URL:https://ikhouvanhelmond.nl/event/proud-to-be-fout/
LOCATION:Wijkhuis ’t Brandpunt\, Biezenlaan 29\, Helmond
CATEGORIES:Vermaak
ATTACH;FMTTYPE=image/jpeg:https://ikhouvanhelmond.nl/wp-content/uploads/2025/02/proud-2b-fout-2025-klein-1456x2048.jpg-kopie.jpg
END:VEVENT
BEGIN:VEVENT
DTSTART;TZID=UTC:20250301T200000
DTEND;TZID=UTC:20250302T013000
DTSTAMP:20260423T140737
CREATED:20250207T203808Z
LAST-MODIFIED:20250207T203808Z
UID:535-1740859200-1740879000@ikhouvanhelmond.nl
SUMMARY:Kei Oranje gemaskerd bal
DESCRIPTION:Het belooft weer een spektakel te worden voor jong en oud! \nHet thema dit jaar is Gemaskerd Bal! Dus haal je leukste masker uit de kast en feest mee als nooit te voren! Natuurlijk zullen de zalen hierop aangepast worden zodat je helemaal op kunt gaan in een kleurrijk spektakel! \nDe grote zaal: The Grand Ballroom\nSTUK\, Jody Bernal\, Lawineboys\, de Knallers\, Bonte Carlo\, Benny Cool \nRestaurant: The Live Ballroom\nBandje voor de Sfeer\, Blazerus\, de Durbloazers \nKleine zaal boven: The Karaoke Ballroom \nHet Kei-Oranjebal is steevast ieder jaar uitverkocht dus haal je tickets in huis voor het te laat is!!
URL:https://ikhouvanhelmond.nl/event/kei-oranje-gemaskerd-bal/
LOCATION:De Traverse\, Steenweg 19\, Helmond
CATEGORIES:Vermaak
END:VEVENT
BEGIN:VEVENT
DTSTART;TZID=UTC:20250301T204500
DTEND;TZID=UTC:20250301T222500
DTSTAMP:20260423T140737
CREATED:20250225T070234Z
LAST-MODIFIED:20250225T070257Z
UID:917-1740861900-1740867900@ikhouvanhelmond.nl
SUMMARY:The Jeroen Leenders Experience
DESCRIPTION:Maak je klaar voor een bijzondere ervaring: De Jeroen Leenders Experience! Jeroen staat bekend om zijn unieke benadering van comedy\, waarbij hij zijn grappen ter plaatse improviseert en de grenzen tussen comedy\, filosofie en pure anarchie opzoekt. Als ‘comedian’s comedian’ is hij een legende in de comedywereld en zijn shows zijn altijd zeer gewild. Hoe gaaf is het dan ook dat hij nu naar De Cacaofabriek komt! Dat wordt lachen. \n\n\n\nThe Jeroen Leenders Experience’ is de beste manier om zijn genialiteit te ervaren. In tegenstelling tot de meeste van zijn collega’s werkt Jeroen in dit format niet met afgewerkte grappen die duizenden keren zijn getest. Nee\, hier presenteert deze geweldenaar alleen ideeën waarvan hij zelf denkt dat deze grappig zouden kunnen zijn (of worden). Een volstrekt onvoorspelbare en retespannende show dus. Mis deze kans niet om een van de meest innovatieve comedians van onze tijd te zien. Koop nu je tickets en laat je verrassen door de onvoorspelbare en originele humor van Jeroen Leenders.
URL:https://ikhouvanhelmond.nl/event/jeroen-leenders/
LOCATION:De Cacaofabriek\, Cacaokade 1\, Helmond
CATEGORIES:Theater
END:VEVENT
END:VCALENDAR