BEGIN:VCALENDAR
VERSION:2.0
PRODID:-//IK HOU VAN HELMOND - ECPv6.15.20//NONSGML v1.0//EN
CALSCALE:GREGORIAN
METHOD:PUBLISH
X-WR-CALNAME:IK HOU VAN HELMOND
X-ORIGINAL-URL:https://ikhouvanhelmond.nl
X-WR-CALDESC:Evenementen voor IK HOU VAN HELMOND
REFRESH-INTERVAL;VALUE=DURATION:PT1H
X-Robots-Tag:noindex
X-PUBLISHED-TTL:PT1H
BEGIN:VTIMEZONE
TZID:UTC
BEGIN:STANDARD
TZOFFSETFROM:+0000
TZOFFSETTO:+0000
TZNAME:UTC
DTSTART:20230101T000000
END:STANDARD
END:VTIMEZONE
BEGIN:VEVENT
DTSTART;VALUE=DATE:20241019
DTEND;VALUE=DATE:20250324
DTSTAMP:20260423T155341
CREATED:20250204T153527Z
LAST-MODIFIED:20250306T094028Z
UID:364-1729296000-1742774399@ikhouvanhelmond.nl
SUMMARY:Close Enough
DESCRIPTION:“If your pictures aren’t good enough\, you aren’t close enough.”– Robert Capa \nKrachtige foto’s die in contact staan met de hedendaagse wereld: in de tentoonstelling Close Enough is het werk samengebracht van 13 vrouwelijke Magnum fotografen. Juist zíj zijn op dit moment toonaangevend voor de toekomst van het fotografencollectief. In 14 fotoseries\, bestaande uit samen meer dan 150 werken\, wordt duidelijk waarom. Elke fotoserie staat voor een belangrijk moment in de carrière van de desbetreffende fotograaf. Soms zijn het foto’s die voor het eerst te zien zijn\, dan is het weer een project uit het archief getoond in een nieuwe context\, of staat de serie voor een typerend werkproces. Ieder project is het resultaat van een langdurige samenwerking met de geportretteerde\, of van langdurig onderzoek of een persoonlijke fascinatie. \nMeer weten over de werken in deze tentoonstelling? Stel je vraag aan de museumdocent\, aanwezig in de tentoonstellingsruimte van 14.00-16.00 uur op de volgende data: 2\, 9\, 16 en 23 februari\, 9\, 16 en 23 maart. 
URL:https://ikhouvanhelmond.nl/event/close-enough/
LOCATION:Museum Helmond locatie kunsthal\, Frans Jozeph van Thielpark 7\, Helmond
CATEGORIES:Expositie
END:VEVENT
BEGIN:VEVENT
DTSTART;VALUE=DATE:20250220
DTEND;VALUE=DATE:20250706
DTSTAMP:20260423T155341
CREATED:20250204T154557Z
LAST-MODIFIED:20250224T111505Z
UID:362-1740009600-1751759999@ikhouvanhelmond.nl
SUMMARY:Draden van ons slavernijverleden
DESCRIPTION:Samen met inwoners van Helmond en Brabant werken we aan een uniek monumentaal wandkleed naar ontwerp van de Eindhovense kunstenaar Victor Sonna. In het ontwerp/kleed zijn de verhalen over het koloniale verleden van onze provincie verwerkt. Ook jij kan meehelpen het kleed te ‘vullen’ met al deze verhalen. Dat kan door middel van verschillende textieltechnieken als tuften\, borduren\, punchen en patchwork. Ons kasteel is een van de maaklocaties in Brabant\, naast bijvoorbeeld TextielMuseum\, Noordbrabants Museum en Nieuwe Veste Breda. \nHet bijzondere wandkleed wordt gemaakt in het kader van het landelijke project ‘Draden van ons Nederlandse slavernijverleden’. Door samen aan het kleed te werken kunnen we met elkaar praten over het verleden\, en we verbinden op deze manier erfgoed met kunst. Het kleed dat op onze maaklocatie wordt gemaakt\, is onderdeel van een veel groter kleed (in totaal 35 x 2\,5 meter) dat uiteindelijk te zien zal zijn op een nu nog niet bekende locatie. \nHelp jij ook mee?\nOok jij kan meewerken aan dit kleed op de maaklocatie Kasteel Helmond iedere donderdag en zaterdag van 13.00-16.00 uur in de periode 20 februari tot en met 5 juli. Jouw deelname kan vanaf de leeftijd van 9 jaar en is gratis\, ook heb je geen museumkaartje nodig om mee te kunnen doen. En je hoeft ook geen ervaring te hebben met het maken van kleden\, iedereen is welkom! Het maken van het kleed gebeurt onder begeleiding van onze medewerkers. \nGeef je op via https://tickets.museumhelmond.nl/nl/draden-van-ons-slavernijverleden/tickets.
URL:https://ikhouvanhelmond.nl/event/draden-van-ons-slavernijverleden/
LOCATION:Museum Helmond locatie kasteel\, Kasteelplein 1\, Helmond\, 5701PP
CATEGORIES:Actief,Kunst & cultuur
ATTACH;FMTTYPE=image/jpeg:https://ikhouvanhelmond.nl/wp-content/uploads/2025/02/IMG_5802-scaled.jpeg
END:VEVENT
BEGIN:VEVENT
DTSTART;VALUE=DATE:20250220
DTEND;VALUE=DATE:20250301
DTSTAMP:20260423T155341
CREATED:20250225T085657Z
LAST-MODIFIED:20250225T085657Z
UID:946-1740009600-1740787199@ikhouvanhelmond.nl
SUMMARY:Oscar Movie Night
DESCRIPTION:Op zondag 2 maart (of in Nederlandse tijd: maandag 3 maart) worden in de Verenigde Staten de Oscars uitgereikt aan de allerbeste films. Wil je de genomineerde films graag zien? Kom dan naar de Oscar Movie Nights in De Cacaofabriek. Van 20 t/m 28 februari kun je bij ons iedere avond een Oscar-genomineerde film zien! Geniet in de bioscoop van de grote kanshebbers in de week voordat de felbegeerde beeldjes in Hollywood worden uitgereikt. \n\n\nStemmen\nAnd the winner is… Jij bepaalt! Bij binnenkomst in de filmzaal ontvangt iedere bezoeker een stemformulier. Hierop kun je jouw filmbeoordeling – van 1 tot 5 sterren – geven. Op de dag van de Oscars – maandag 3 maart – maken we de favoriete film van ons Cacao-publiek bekend via de socials. \nOscar? Kom gratis naar de film!\nIs jouw naam Oscar? Geniet dan gratis van deze Oscar-genomineerde films.\n*Op vertoon van een geldig legitimatiebewijs aan onze kassa mag je gratis naar deze Oscar Movie Nights. \nPraktische info \n\nAlle films starten om 19.30 uur.\nDe films draaien in filmzaal 4.
URL:https://ikhouvanhelmond.nl/event/oscar-movie-night/
LOCATION:De Cacaofabriek\, Cacaokade 1\, Helmond
CATEGORIES:Film
END:VEVENT
BEGIN:VEVENT
DTSTART;TZID=UTC:20250222T200000
DTEND;TZID=UTC:20250223T010000
DTSTAMP:20260423T155341
CREATED:20250131T134514Z
LAST-MODIFIED:20250204T154704Z
UID:295-1740254400-1740272400@ikhouvanhelmond.nl
SUMMARY:Hil Helmond Zingt
DESCRIPTION:Op de laatste zaterdag voor Carnaval is het tijd voor het leukste meezingfeest van Keiestad: Hil Helmond Zingt. Dit evenement is de gezelligste warming-up voor het feest der feesten. Tijdens Hil Helmond Zingt verzorgen diverse artiesten onvergetelijke optredens vol meezingers\, waarop je met al je vrienden alvast kan inhaken of van links naar rechts springen. Dit is de avond om je keel alvast even goed de keel smeren\, zodat je goed geoefend klaar bent voor een nieuwe carnaval! \nDe artiesten van de avond zijn:\nHofkapel de Klinkers\nDe Helmonds Streamers Hoofdact\nThe Lazy Piano’s Hoofdact\nDe Heeren Van \nKaartjes voor Hil Helmond Zingt koop je via https://www.ticketview.nl/shop/keiebijters.
URL:https://ikhouvanhelmond.nl/event/hil-helmond-zingt/
LOCATION:De Traverse\, Steenweg 19\, Helmond
CATEGORIES:Muziek
ATTACH;FMTTYPE=image/jpeg:https://ikhouvanhelmond.nl/wp-content/uploads/2025/01/HilHelmondZingt.jpg
END:VEVENT
BEGIN:VEVENT
DTSTART;TZID=UTC:20250222T210000
DTEND;TZID=UTC:20250223T030000
DTSTAMP:20260423T155341
CREATED:20250208T154559Z
LAST-MODIFIED:20250208T154847Z
UID:583-1740258000-1740279600@ikhouvanhelmond.nl
SUMMARY:MC karaoke night
DESCRIPTION:Karaoke blijft populair en vanavond mag je naast de meezingers ook de meest irritante guilty pleasures zingen.\nDeelnemers kunnen kiezen uit een enorme lijst met nummers die het MC ter beschikking stelt.\nOp het podium kun je dan je gekozen nummer(s) ten gehore brengen. \nWe begrijpen dat je misschien last hebt van plankenkoorts of wat verlegen bent\, daarom krijgt elke deelnemer\, die zich bij de bar inschrijft een borrel om zich de moed in te drinken. \nEen heuse jury zal je performance beoordelen en wellicht ben jij straks de officiële MC Karaoke Kampioen! \nTussen de bedrijven door draait de DJ lekkere deuntjes en staat het barpersoneel natuurlijk klaar om je te voorzien van de\, oh zo nodige\, vloeibare brandstof om de avond vol te kunnen zingen!
URL:https://ikhouvanhelmond.nl/event/mc-karaoke-night/
LOCATION:Muziekcafe\, Zuid Koninginnewal 39\, Helmond
CATEGORIES:Muziek
ATTACH;FMTTYPE=image/webp:https://ikhouvanhelmond.nl/wp-content/uploads/2025/02/MCKN.jpg.webp
END:VEVENT
BEGIN:VEVENT
DTSTART;TZID=UTC:20250223T120000
DTEND;TZID=UTC:20250223T170000
DTSTAMP:20260423T155341
CREATED:20250204T152817Z
LAST-MODIFIED:20250204T152854Z
UID:356-1740312000-1740330000@ikhouvanhelmond.nl
SUMMARY:Stamppottendag
DESCRIPTION:Het Jan Visser Museum organiseert weer een stamppottendag. Op deze dag worden er drie soorten stamppot bereidt\, namelijk hutspot\, zuurkoolstamp en boerenkoolstamp. Erbij worden spek\, worst\, hachee of gehaktballen geserveerd. Uiteraard ontbreekt een kop stevige snert niet.  \nEntree tot het Jan Visser Museum is op deze dag gratis. Kun je meteen de uitgebreide collectie landbouwwerktuigen en verzameling brandweervoertuigen bezichtigen. Voor het eten van stamppot wordt een vergoeding gevraagd.
URL:https://ikhouvanhelmond.nl/event/stamppottendag/
LOCATION:Jan Vissermuseum\, Keizerin Marialaan 5\, Helmond\, 5702 NR\, Nederland
CATEGORIES:Eten & drinken
ATTACH;FMTTYPE=image/jpeg:https://ikhouvanhelmond.nl/wp-content/uploads/2025/02/IMG_5608.jpg
END:VEVENT
BEGIN:VEVENT
DTSTART;TZID=UTC:20250223T150000
DTEND;TZID=UTC:20250223T161500
DTSTAMP:20260423T155341
CREATED:20250211T203439Z
LAST-MODIFIED:20250211T203439Z
UID:718-1740322800-1740327300@ikhouvanhelmond.nl
SUMMARY:Karin Bruers\, Nol Havens en Marjolein Heesters - Daar hebben we het niet meer over
DESCRIPTION:‘Daar hebben we het niet meer over’ is een matineevoorstelling. Een grappige\, vrolijke en mogelijk ontspannen voorstelling zo midden op de dag.  \n\n\nJe kunt meezingen met Nol\, lachen om de grappen van Karin en om de typetjes die ze samen met Marjolein speelt. Het publiek mag onderwerpen inbrengen\, zolang ze Karin maar niet op haar stikstofpaardje zetten. Zelf wil Karin het niet meer hebben over gender reveals en de Apocalyps. Nol wil het niet meer hebben over boeren en triple glas. En Marjolein wil het niet meer hebben over Trump en tekkels. Er is echter geen garantie dat ze het er niet over gaan hebben. Waarom een matinee? Karin is ‘s morgens niet te genieten\, Nol wil ’s avonds het huis niet meer uit en Marjolein is nachtblind en dat is niet handig als zij ook de chauffeur is.
URL:https://ikhouvanhelmond.nl/event/karin-bruers-nol-havens-en-marjolein-heesters-daar-hebben-we-het-niet-meer-over/
LOCATION:Theater het Speelhuis\, Speelhuisplein 2\, Helmond
CATEGORIES:Theater
END:VEVENT
BEGIN:VEVENT
DTSTART;TZID=UTC:20250223T150000
DTEND;TZID=UTC:20250223T190000
DTSTAMP:20260423T155341
CREATED:20250214T090624Z
LAST-MODIFIED:20250214T090624Z
UID:756-1740322800-1740337200@ikhouvanhelmond.nl
SUMMARY:Seniorendisco
DESCRIPTION:Muzikale middag waar DJ Mouws muziek draait uit de jaren 50\, 60 en 70.  Dus gooi die heupen los en kom naar Wijkcentrum Westwijzer. \nEntree is gratis.
URL:https://ikhouvanhelmond.nl/event/seniorendisco/
LOCATION:Wijkhuis Westwijzer\, Cortenbachstraat 70\, Helmond
CATEGORIES:Muziek
END:VEVENT
BEGIN:VEVENT
DTSTART;TZID=UTC:20250223T190000
DTEND;TZID=UTC:20250223T230000
DTSTAMP:20260423T155341
CREATED:20250206T124115Z
LAST-MODIFIED:20250206T124115Z
UID:457-1740337200-1740351600@ikhouvanhelmond.nl
SUMMARY:Live: Punchlove
DESCRIPTION:Punchlove is een band uit Brooklyn die zich toelegt op het verleggen van de grenzen van experimentele sonische praktijken\, en die een gelaagd bed van pijnpopnummers opbouwt die samenkomen rond een digitaal gestimuleerd\, emotioneel getand merk van moderne shoegaze met hun debuutalbum “Channels” (Kanine Records). Voor de vijf multi-instrumentalisten en audiotechnici – Jillian Olesen\, Ethan Williams\, Joey Machina\, Ian Lange McPherson en visueel kunstenaar viz_wel – was het samen verhuizen naar een doolhof van een huis in Brooklyn de overgang die het album creëerde waar ze hun hele leven aan hadden gewerkt. Punchlove combineert doe-het-zelf-opnames en experimentele sonische visies met studiokwaliteit\, handelt in diep voorbereide geluiden\, scherp geslepen instrumentals en voert ze uit als een band die elkaar en hun vak door en door kent.
URL:https://ikhouvanhelmond.nl/event/live-punchlove/
LOCATION:Lokaal 42\, Markt 42\, Helmond
CATEGORIES:Muziek
ATTACH;FMTTYPE=image/jpeg:https://ikhouvanhelmond.nl/wp-content/uploads/2025/02/Punchlove-01.jpg
END:VEVENT
END:VCALENDAR